BEGIN:VCALENDAR
VERSION:2.0
PRODID:-//Asociación para el Desarrollo de Basale Stimulation® - ECPv6.3.6//NONSGML v1.0//EN
CALSCALE:GREGORIAN
METHOD:PUBLISH
X-WR-CALNAME:Asociación para el Desarrollo de Basale Stimulation®
X-ORIGINAL-URL:https://www.basale-stimulation.optimizarwordpress.net
X-WR-CALDESC:Eventos para Asociación para el Desarrollo de Basale Stimulation®
REFRESH-INTERVAL;VALUE=DURATION:PT1H
X-Robots-Tag:noindex
X-PUBLISHED-TTL:PT1H
BEGIN:VTIMEZONE
TZID:Europe/Madrid
BEGIN:DAYLIGHT
TZOFFSETFROM:+0100
TZOFFSETTO:+0200
TZNAME:CEST
DTSTART:20210328T010000
END:DAYLIGHT
BEGIN:STANDARD
TZOFFSETFROM:+0200
TZOFFSETTO:+0100
TZNAME:CET
DTSTART:20211031T010000
END:STANDARD
BEGIN:DAYLIGHT
TZOFFSETFROM:+0100
TZOFFSETTO:+0200
TZNAME:CEST
DTSTART:20220327T010000
END:DAYLIGHT
BEGIN:STANDARD
TZOFFSETFROM:+0200
TZOFFSETTO:+0100
TZNAME:CET
DTSTART:20221030T010000
END:STANDARD
BEGIN:DAYLIGHT
TZOFFSETFROM:+0100
TZOFFSETTO:+0200
TZNAME:CEST
DTSTART:20230326T010000
END:DAYLIGHT
BEGIN:STANDARD
TZOFFSETFROM:+0200
TZOFFSETTO:+0100
TZNAME:CET
DTSTART:20231029T010000
END:STANDARD
END:VTIMEZONE
BEGIN:VEVENT
DTSTART;VALUE=DATE:20230414
DTEND;VALUE=DATE:20230417
DTSTAMP:20260421T191224
CREATED:20230104T192956Z
LAST-MODIFIED:20230227T184858Z
UID:1896-1681430400-1681689599@www.basale-stimulation.optimizarwordpress.net
SUMMARY:Curso Básico de Basale Stimulation nach prof. A. Fröhlich. 14\, 15 y 16 de abril. Madrid. CURSO ABIERTO
DESCRIPTION:Curso Básico de Basale Stimulation nach prof. A. Fröhlich. 14\, 15 y 16 de abril.\nMadrid.\n24 horas.\nOrganiza: MEB neurorehabilitación\nCurso abierto para cualquier persona interesada.\nInformación e inscripciones:  http://www.mebers.es/noticias/curso-basico-en-estimulacion-basal-2/\nPRECIO: 310 euros. Formación Bonificable al 100% por FUNDAE.
URL:https://www.basale-stimulation.optimizarwordpress.net/event/curso-basico-de-basale-stimulation-nach-prof-a-frohlich-31-de-marzo-1-y-2-de-abril-madrid-curso-abierto/
LOCATION:MEB\, Pozuelo\, Madrid\, España
CATEGORIES:Abierto,Básico
ATTACH;FMTTYPE=image/png:https://www.basale-stimulation.optimizarwordpress.net/wp-content/uploads/2023/02/curso-meb-basico.png
END:VEVENT
BEGIN:VEVENT
DTSTART;VALUE=DATE:20210910
DTEND;VALUE=DATE:20210913
DTSTAMP:20260421T191224
CREATED:20210622T085648Z
LAST-MODIFIED:20210729T172641Z
UID:1273-1631232000-1631491199@www.basale-stimulation.optimizarwordpress.net
SUMMARY:Curso de Profundización en Basale Stimulation®: 10-11-12 de setiembre 2021 en MEB \, Pozuelo\, Madrid ¡CURSO ABIERTO!
DESCRIPTION:Cursos de profundización:\n10-11-12 de setiembre 2021 en MEB \, Pozuelo\, Madrid info:\nDocentes: Barbara Roller y Gema Del Moral\nInfo: info@mebers.es      Tel: 622109827
URL:https://www.basale-stimulation.optimizarwordpress.net/event/cursos-de-profundizacion-10-11-12-de-setiembre-2021-en-meb-pozuelo-madrid-curso-abierto/
LOCATION:MEB\, Pozuelo\, Madrid\, España
CATEGORIES:Profundización
ORGANIZER;CN="B%C3%A1rbara Roller":MAILTO:barbara.roller@basale-stimulation.optimizarwordpress.net
END:VEVENT
END:VCALENDAR