BEGIN:VCALENDAR
VERSION:2.0
PRODID:-//Asociación para el Desarrollo de Basale Stimulation® - ECPv6.3.6//NONSGML v1.0//EN
CALSCALE:GREGORIAN
METHOD:PUBLISH
X-WR-CALNAME:Asociación para el Desarrollo de Basale Stimulation®
X-ORIGINAL-URL:https://www.basale-stimulation.optimizarwordpress.net
X-WR-CALDESC:Eventos para Asociación para el Desarrollo de Basale Stimulation®
REFRESH-INTERVAL;VALUE=DURATION:PT1H
X-Robots-Tag:noindex
X-PUBLISHED-TTL:PT1H
BEGIN:VTIMEZONE
TZID:Europe/Madrid
BEGIN:DAYLIGHT
TZOFFSETFROM:+0100
TZOFFSETTO:+0200
TZNAME:CEST
DTSTART:20210328T010000
END:DAYLIGHT
BEGIN:STANDARD
TZOFFSETFROM:+0200
TZOFFSETTO:+0100
TZNAME:CET
DTSTART:20211031T010000
END:STANDARD
END:VTIMEZONE
BEGIN:VEVENT
DTSTART;VALUE=DATE:20211001
DTEND;VALUE=DATE:20211004
DTSTAMP:20260421T191358
CREATED:20210730T170144Z
LAST-MODIFIED:20210903T104515Z
UID:1323-1633046400-1633305599@www.basale-stimulation.optimizarwordpress.net
SUMMARY:Curso Básico de Basale Stimulation®  Modalidad: Presencial. ¡CURSO ABIERTO!
DESCRIPTION:Curso Básico de Basale Stimulation®  \n  \nDuración: 24h \nFechas: 1\, 2 y 3 de Octubre \nLugar: Leganés\, Madrid \nNombre formador/a: Irene Borja de Fuentes \n 
URL:https://www.basale-stimulation.optimizarwordpress.net/event/curso-basico-de-basale-stimulation-therafis/
LOCATION:Fisioterapia Sanara\, Av Reina Sofía 14\, Leganés\, Madrid
CATEGORIES:Básico
ATTACH;FMTTYPE=image/jpeg:https://www.basale-stimulation.optimizarwordpress.net/wp-content/uploads/2021/09/WhatsApp-Image-2021-08-25-at-10.24.33.jpeg
ORGANIZER;CN="Irene Borja de Fuentes":MAILTO:irene.borja@basale-stimulation.optimizarwordpress.net
END:VEVENT
END:VCALENDAR