BEGIN:VCALENDAR
VERSION:2.0
PRODID:-//Asociación para el Desarrollo de Basale Stimulation® - ECPv6.3.6//NONSGML v1.0//EN
CALSCALE:GREGORIAN
METHOD:PUBLISH
X-ORIGINAL-URL:https://www.basale-stimulation.optimizarwordpress.net
X-WR-CALDESC:Eventos para Asociación para el Desarrollo de Basale Stimulation®
REFRESH-INTERVAL;VALUE=DURATION:PT1H
X-Robots-Tag:noindex
X-PUBLISHED-TTL:PT1H
BEGIN:VTIMEZONE
TZID:Europe/Madrid
BEGIN:DAYLIGHT
TZOFFSETFROM:+0100
TZOFFSETTO:+0200
TZNAME:CEST
DTSTART:20220327T010000
END:DAYLIGHT
BEGIN:STANDARD
TZOFFSETFROM:+0200
TZOFFSETTO:+0100
TZNAME:CET
DTSTART:20221030T010000
END:STANDARD
END:VTIMEZONE
BEGIN:VEVENT
DTSTART;VALUE=DATE:20220909
DTEND;VALUE=DATE:20220910
DTSTAMP:20260421T130250
CREATED:20220921T165022Z
LAST-MODIFIED:20220921T165022Z
UID:1822-1662681600-1662767999@www.basale-stimulation.optimizarwordpress.net
SUMMARY:Curso Básico en Basale Stimulation®: 9\, 15\, 16\, y 23 de setiembre EUIT. Escola Universitaria d’infermeria i Teràpia Ocupacional Terrassa. CURSO CERRADO
DESCRIPTION:Curso Básico en Basale Stimulation®: 9\, 15\, 16\, y 23 de setiembre \nEUIT. Escola Universitaria d’infermeria i Teràpia Ocupacional Terrassa \nTeléfono:937837777  \nDocente: Elsa Bombín \nPrecio: \nw.w.w.euit.fdsll.cat  \n  \nCurso: CERRADO \nDirigido a:  Estudiantes de Terapia Ocupacional
URL:https://www.basale-stimulation.optimizarwordpress.net/event/curso-basico-en-basale-stimulation-9-15-16-y-23-de-setiembre-euit-escola-universitaria-dinfermeria-i-terapia-ocupacional-terrassa-curso-cerrado/2022-09-09/
LOCATION:Escola Universitaria d’infermeria i Teràpia Ocupacional\, Terrassa\, España
CATEGORIES:Básico,cerrado
END:VEVENT
END:VCALENDAR