BEGIN:VCALENDAR
VERSION:2.0
PRODID:-//Asociación para el Desarrollo de Basale Stimulation® - ECPv6.3.6//NONSGML v1.0//EN
CALSCALE:GREGORIAN
METHOD:PUBLISH
X-WR-CALNAME:Asociación para el Desarrollo de Basale Stimulation®
X-ORIGINAL-URL:https://www.basale-stimulation.optimizarwordpress.net
X-WR-CALDESC:Eventos para Asociación para el Desarrollo de Basale Stimulation®
REFRESH-INTERVAL;VALUE=DURATION:PT1H
X-Robots-Tag:noindex
X-PUBLISHED-TTL:PT1H
BEGIN:VTIMEZONE
TZID:Europe/Madrid
BEGIN:DAYLIGHT
TZOFFSETFROM:+0100
TZOFFSETTO:+0200
TZNAME:CEST
DTSTART:20220327T010000
END:DAYLIGHT
BEGIN:STANDARD
TZOFFSETFROM:+0200
TZOFFSETTO:+0100
TZNAME:CET
DTSTART:20221030T010000
END:STANDARD
END:VTIMEZONE
BEGIN:VEVENT
DTSTART;VALUE=DATE:20220701
DTEND;VALUE=DATE:20220704
DTSTAMP:20260421T142640
CREATED:20220528T074108Z
LAST-MODIFIED:20220528T074108Z
UID:1681-1656633600-1656892799@www.basale-stimulation.optimizarwordpress.net
SUMMARY:Curso Básico de Basale Stimulation® para terapeutas ocupacionales: 1\, 2 y 3 de Julio del 2022 . Valladolid. ¡CURSO ABIERTO!
DESCRIPTION:Curso Básico de Basale Stimulation® para terapeutas ocupacionales: 1\, 2 y 3 de Julio del 2022 \nSede COPTOCYL. Calle Hierbabuena\, 1\, Planta Baja – 47009 Valladolid  \nTeléfonos: 983 08 83 76 / 663 36 87 07\n\n\n    Más información: formacion@coptocyl.com\nDocente: \nMarta Not Monegal\n\nPrecio:\n\n Cuota: 230 € (Terapeutas Ocupacionales Asociados/Colegiados; Organizaciones Firmantes del Convenio/CGCTO)\n Cuota: 250 € (Alumnos estudiantes de 4º de Terapia Ocupacional en CyL/ otros)\n Cuota: 270 € (Terapeutas Ocupacionales No Colegiados/no Asociados y otros)\nPrecio incluye: Documentación\, talleres\, coffee breaks\, comida sábado\, lunch domingo y materiales de practicas.\nEmail:  administracion@coptocyl.com \n\nCurso ABIERTO para terapeutas ocupacionales\, dirigido a terapeutas ocupacionales.
URL:https://www.basale-stimulation.optimizarwordpress.net/event/curso-basico-de-basale-stimulation-para-terapeutas-ocupacionales-1-2-y-3-de-julio-del-2022-valladolid-curso-abierto/
LOCATION:COPTOCYL\, Calle Hierbabuena\, 1\, Planta Baja\, Valladolid\, Valladolid\, 47009\, España
CATEGORIES:Básico
ATTACH;FMTTYPE=application/pdf:https://www.basale-stimulation.optimizarwordpress.net/wp-content/uploads/2022/05/Cartel-Curso-COPTOCYL-BASAL-2022.pdf
ORGANIZER;CN="Marta Not":MAILTO:marta.not@basale-stimulation.optimizarwordpress.net
END:VEVENT
END:VCALENDAR