BEGIN:VCALENDAR
VERSION:2.0
PRODID:-//Asociación para el Desarrollo de Basale Stimulation® - ECPv6.3.6//NONSGML v1.0//EN
CALSCALE:GREGORIAN
METHOD:PUBLISH
X-WR-CALNAME:Asociación para el Desarrollo de Basale Stimulation®
X-ORIGINAL-URL:https://www.basale-stimulation.optimizarwordpress.net
X-WR-CALDESC:Eventos para Asociación para el Desarrollo de Basale Stimulation®
REFRESH-INTERVAL;VALUE=DURATION:PT1H
X-Robots-Tag:noindex
X-PUBLISHED-TTL:PT1H
BEGIN:VTIMEZONE
TZID:Europe/Madrid
BEGIN:DAYLIGHT
TZOFFSETFROM:+0100
TZOFFSETTO:+0200
TZNAME:CEST
DTSTART:20230326T010000
END:DAYLIGHT
BEGIN:STANDARD
TZOFFSETFROM:+0200
TZOFFSETTO:+0100
TZNAME:CET
DTSTART:20231029T010000
END:STANDARD
END:VTIMEZONE
BEGIN:VEVENT
DTSTART;VALUE=DATE:20230127
DTEND;VALUE=DATE:20230129
DTSTAMP:20260421T103239
CREATED:20230124T191144Z
LAST-MODIFIED:20230124T191144Z
UID:1954-1674777600-1674950399@www.basale-stimulation.optimizarwordpress.net
SUMMARY:Curso Básico en Basale Stimulation® : 27 y 18 de enero\, 10 y 11\, y 24 y 25 de febrero 2023
DESCRIPTION:Curso Básico en Basale Stimulation® : 27 y 18 de enero\, 10 y 11\, y 24 y 25 de febrero 2023 \nCentro de Educación Especial Gorbeialde HBI \nDocente: Aitziber Ibáñez de Gauna \n  \nCurso: CERRADO \nDirigido a: profesionales que trabajen en el ámbito educativo (maestras\, educadoras\, logopedas\, fisioterapeutas) \n 
URL:https://www.basale-stimulation.optimizarwordpress.net/event/curso-basico-en-basale-stimulation-27-y-18-de-enero-10-y-11-y-24-y-25-de-febrero-2023/2023-01-27/
LOCATION:Centro de Educacion Especial Gorbeialde HBI\, Vitoria\, Alava\, España
CATEGORIES:Básico,cerrado
END:VEVENT
END:VCALENDAR