BEGIN:VCALENDAR
VERSION:2.0
PRODID:-//Asociación para el Desarrollo de Basale Stimulation® - ECPv6.3.6//NONSGML v1.0//EN
CALSCALE:GREGORIAN
METHOD:PUBLISH
X-ORIGINAL-URL:https://www.basale-stimulation.optimizarwordpress.net
X-WR-CALDESC:Eventos para Asociación para el Desarrollo de Basale Stimulation®
REFRESH-INTERVAL;VALUE=DURATION:PT1H
X-Robots-Tag:noindex
X-PUBLISHED-TTL:PT1H
BEGIN:VTIMEZONE
TZID:Europe/Madrid
BEGIN:DAYLIGHT
TZOFFSETFROM:+0100
TZOFFSETTO:+0200
TZNAME:CEST
DTSTART:20230326T010000
END:DAYLIGHT
BEGIN:STANDARD
TZOFFSETFROM:+0200
TZOFFSETTO:+0100
TZNAME:CET
DTSTART:20231029T010000
END:STANDARD
END:VTIMEZONE
BEGIN:VEVENT
DTSTART;TZID=Europe/Madrid:20230209T160000
DTEND;TZID=Europe/Madrid:20230209T193000
DTSTAMP:20260421T120432
CREATED:20230124T191541Z
LAST-MODIFIED:20230124T191541Z
UID:1945-1675958400-1675971000@www.basale-stimulation.optimizarwordpress.net
SUMMARY:CURSO BÁSICO DE ESTIMULACIÓN BASAL: APROXIMACIÓN AL CONCEPTO Y APLICACIÓN EN EL AULA. Algeciras del 16 febrero al 20 de marzo. CURSO ABIERTO para profesorado de PT y AL de centros públicos donde se encuentra alumnado con pluridiscapacidad.
DESCRIPTION:ESTIMULACIÓN BASAL: APROXIMACIÓN AL CONCEPTO Y APLICACIÓN EN EL AULA\nCódigo: 231107I1006\nLugar de realización: CEEE VIRGEN DE LA ESPERANZA\nFechas de realización: Del 09/02/2023 al 20/04/2023\nSesiones:  \n09/02/2023\,Algeciras\n16/02/2023\,Algeciras\n08/03/2023\,Algeciras\n16/03/2023\,Algeciras\n23/03/2023\,Algeciras\n13/04/2023\,Algeciras\n20/04/2023\,Algeciras\nHorario: 16:00-19:30\nDuración: 25h.(24 presenciales y 1 no presenciales)\nInscripciones: desde 23/01/2023 hasta 06/02/2023 \nActividad dirigida al profesorado de PT y AL de centros públicos donde se encuentra alumnado con pluridiscapacidad. \nCRITERIOS ADJUDICACIÓN:  \n1. Profesorado PT/AL de CEEE. \n2. Profesorado de Aulas Hospitalarias. \n3. Profesorado PT/AL de Aulas Específicas. \n4. Profesorado PT/AL \n5. Orientadores \n6. Resto del profesorado \nADMISIÓN SOLICITUDES: Hasta el 6 de febrero 2023 \nLISTA PROVISIONAL: 7 de febrero 2023 \nLISTA DEFINITIVA: 8 febrero 2023\nDetalles e inscripción: https://www.juntadeandalucia.es/educacion/secretariavirtual/consultaCEP/actividad/231107I1006/
URL:https://www.basale-stimulation.optimizarwordpress.net/event/curso-basico-de-estimulacion-basal-aproximacion-al-concepto-y-aplicacion-en-el-aula-algeciras-del-16-febrero-al-20-de-marzo-curso-abierto-para-profesorado-de-pt-y-al-de-centros-publicos-donde-se-en/2023-02-09/
LOCATION:CEEE Virgen de la Esperanza\, Algeciras\, Cádiz\, España
CATEGORIES:Abierto,Básico
END:VEVENT
END:VCALENDAR