BEGIN:VCALENDAR
VERSION:2.0
PRODID:-//Asociación para el Desarrollo de Basale Stimulation® - ECPv6.3.6//NONSGML v1.0//EN
CALSCALE:GREGORIAN
METHOD:PUBLISH
X-WR-CALNAME:Asociación para el Desarrollo de Basale Stimulation®
X-ORIGINAL-URL:https://www.basale-stimulation.optimizarwordpress.net
X-WR-CALDESC:Eventos para Asociación para el Desarrollo de Basale Stimulation®
REFRESH-INTERVAL;VALUE=DURATION:PT1H
X-Robots-Tag:noindex
X-PUBLISHED-TTL:PT1H
BEGIN:VTIMEZONE
TZID:Europe/Madrid
BEGIN:DAYLIGHT
TZOFFSETFROM:+0100
TZOFFSETTO:+0200
TZNAME:CEST
DTSTART:20230326T010000
END:DAYLIGHT
BEGIN:STANDARD
TZOFFSETFROM:+0200
TZOFFSETTO:+0100
TZNAME:CET
DTSTART:20231029T010000
END:STANDARD
END:VTIMEZONE
BEGIN:VEVENT
DTSTART;VALUE=DATE:20231018
DTEND;VALUE=DATE:20231019
DTSTAMP:20260421T114723
CREATED:20231010T201859Z
LAST-MODIFIED:20231010T201859Z
UID:2070-1697587200-1697673599@www.basale-stimulation.optimizarwordpress.net
SUMMARY:Curso Básico de Basale Stimulation en CEE Andrés Muñoz\, Pamplona. Curso cerrado
DESCRIPTION:Curso Básico de Basale Stimulation en CEE Andrés Muñoz\, Pamplona. Curso cerrado \nDuración 24 \nFechas: 18 y 25 de Octubre\, 8 y 15 de Noviembre\, 13 y 20 de diciembre
URL:https://www.basale-stimulation.optimizarwordpress.net/event/curso-basico-de-basale-stimulation-en-cee-andres-munoz-pamplona-curso-cerrado/2023-10-18/
LOCATION:CCE ANDRES MUÑOZ\, Pamplona\, España
CATEGORIES:Básico,cerrado
ORGANIZER;CN="Unai Zubillaga":MAILTO:unai.zubillaga@basale-stimulation.optimizarwordpress.net
END:VEVENT
END:VCALENDAR