BEGIN:VCALENDAR
VERSION:2.0
PRODID:-//Asociación para el Desarrollo de Basale Stimulation® - ECPv6.3.6//NONSGML v1.0//EN
CALSCALE:GREGORIAN
METHOD:PUBLISH
X-WR-CALNAME:Asociación para el Desarrollo de Basale Stimulation®
X-ORIGINAL-URL:https://www.basale-stimulation.optimizarwordpress.net
X-WR-CALDESC:Eventos para Asociación para el Desarrollo de Basale Stimulation®
REFRESH-INTERVAL;VALUE=DURATION:PT1H
X-Robots-Tag:noindex
X-PUBLISHED-TTL:PT1H
BEGIN:VTIMEZONE
TZID:Europe/Madrid
BEGIN:DAYLIGHT
TZOFFSETFROM:+0100
TZOFFSETTO:+0200
TZNAME:CEST
DTSTART:20220327T010000
END:DAYLIGHT
BEGIN:STANDARD
TZOFFSETFROM:+0200
TZOFFSETTO:+0100
TZNAME:CET
DTSTART:20221030T010000
END:STANDARD
END:VTIMEZONE
BEGIN:VEVENT
DTSTART;VALUE=DATE:20220226
DTEND;VALUE=DATE:20220228
DTSTAMP:20260421T174322
CREATED:20211221T171932Z
LAST-MODIFIED:20211221T172632Z
UID:1437-1645833600-1646006399@www.basale-stimulation.optimizarwordpress.net
SUMMARY:Curso Básico en Basale Stimulation®: 26-27 de febrero y 12-13 de marzo  Centro Lescer\, Madrid. ¡CURSO ABIERTO!
DESCRIPTION:Curso Básico en Basale Stimulation®: 26-27 de febrero y 12-13 de marzo\nCentro Lescer\, Madrid.\ntel:917398142\nDocente: Barbara Roller\nInfo: www.//centrolescer.org\n\nDirigido a profesionales del ámbito socio-sanitario\, hospitalario y educativo que trabajen en la atención directa o planificación de la intervención\, fisioterapeutas\, logopedas\, neuropsicólogos\, psicólogos\, auxiliares\, cuidadores\, familiares …. (No importa la titulación académica).
URL:https://www.basale-stimulation.optimizarwordpress.net/event/curso-basico-en-basale-stimulation-26-27-de-febrero-y-12-13-de-marzo-centro-lescer-madrid-curso-abierto/2022-02-26/
LOCATION:Centro Lescer\, Avenida Fuentelarreyna\, 12.\, Madrid\, Madrid\, 28035
CATEGORIES:Básico
ORGANIZER;CN="B%C3%A1rbara Roller":MAILTO:barbara.roller@basale-stimulation.optimizarwordpress.net
END:VEVENT
BEGIN:VEVENT
DTSTART;VALUE=DATE:20220129
DTEND;VALUE=DATE:20220131
DTSTAMP:20260421T174322
CREATED:20210622T091546Z
LAST-MODIFIED:20211221T173000Z
UID:1283-1643414400-1643587199@www.basale-stimulation.optimizarwordpress.net
SUMMARY:Curso Profundización en Basale Stimulation®: 29-30 de enero y 12-13 de febrero\, Madrid ¡CURSO ABIERTO!
DESCRIPTION:Curso Profundización en Basale Stimulation®: 29-30 de enero y 12-13 de febrero\nCentro Lescer\, Madrid.\ntel:917398142\nDocente: Barbara Roller\nInfo: www.//centrolescer.org\n\nDirigido a profesionales del ámbito socio-sanitario\, hospitalario trabajen en la atención directa graves discapacidades. Y que hayan realizado en Curso básico de Basal Stimulation ® \nAsistencia mínima permitida del 80%. Se entregará diploma acreditativo de la formación con los CFC y certificado de participación reconocido por la Asociación Internacional de Basale Stimulation ® \n 
URL:https://www.basale-stimulation.optimizarwordpress.net/event/profundizacion-valladolid/2022-01-29/
LOCATION:Centro Lescer\, Avenida Fuentelarreyna\, 12.\, Madrid\, Madrid\, 28035
CATEGORIES:Profundización
ORGANIZER;CN="B%C3%A1rbara Roller":MAILTO:barbara.roller@basale-stimulation.optimizarwordpress.net
END:VEVENT
END:VCALENDAR