BEGIN:VCALENDAR
VERSION:2.0
PRODID:-//Asociación para el Desarrollo de Basale Stimulation® - ECPv6.3.6//NONSGML v1.0//EN
CALSCALE:GREGORIAN
METHOD:PUBLISH
X-ORIGINAL-URL:https://www.basale-stimulation.optimizarwordpress.net
X-WR-CALDESC:Eventos para Asociación para el Desarrollo de Basale Stimulation®
REFRESH-INTERVAL;VALUE=DURATION:PT1H
X-Robots-Tag:noindex
X-PUBLISHED-TTL:PT1H
BEGIN:VTIMEZONE
TZID:Europe/Madrid
BEGIN:DAYLIGHT
TZOFFSETFROM:+0100
TZOFFSETTO:+0200
TZNAME:CEST
DTSTART:20230326T010000
END:DAYLIGHT
BEGIN:STANDARD
TZOFFSETFROM:+0200
TZOFFSETTO:+0100
TZNAME:CET
DTSTART:20231029T010000
END:STANDARD
END:VTIMEZONE
BEGIN:VEVENT
DTSTART;VALUE=DATE:20230120
DTEND;VALUE=DATE:20230122
DTSTAMP:20260421T102542
CREATED:20230111T165850Z
LAST-MODIFIED:20230111T172551Z
UID:1899-1674172800-1674345599@www.basale-stimulation.optimizarwordpress.net
SUMMARY:Curso de Profundización en Basale Stimulation . Alsasua\, 16 y 17 de Diciembre del 2022; 20 y 21 de Enero 2023
DESCRIPTION:Curso: CERRADO\nCurso de Profundización en Basale Stimulation \nDirigido: A profesionales de la clínica Josefina Arregui en Alsasua \nDirección: C/ Erbunua s/n Alsasua\n\nFechas: 16 y 17 de Diciembre del 2022; 20 y 21 de Enero 2023
URL:https://www.basale-stimulation.optimizarwordpress.net/event/curso-de-profundizacion-en-basale-stimulation-alsasua-16-y-17-de-diciembre-del-2022-20-y-21-de-enero-2023/
LOCATION:Alsasua\, C/ Erbunua s/n\, Alsasua\, España
CATEGORIES:cerrado,Profundización
ORGANIZER;CN="Marta Not":MAILTO:marta.not@basale-stimulation.optimizarwordpress.net
END:VEVENT
END:VCALENDAR