BEGIN:VCALENDAR
VERSION:2.0
PRODID:-//Asociación para el Desarrollo de Basale Stimulation® - ECPv6.3.6//NONSGML v1.0//EN
CALSCALE:GREGORIAN
METHOD:PUBLISH
X-WR-CALNAME:Asociación para el Desarrollo de Basale Stimulation®
X-ORIGINAL-URL:https://www.basale-stimulation.optimizarwordpress.net
X-WR-CALDESC:Eventos para Asociación para el Desarrollo de Basale Stimulation®
REFRESH-INTERVAL;VALUE=DURATION:PT1H
X-Robots-Tag:noindex
X-PUBLISHED-TTL:PT1H
BEGIN:VTIMEZONE
TZID:Europe/Madrid
BEGIN:DAYLIGHT
TZOFFSETFROM:+0100
TZOFFSETTO:+0200
TZNAME:CEST
DTSTART:20220327T010000
END:DAYLIGHT
BEGIN:STANDARD
TZOFFSETFROM:+0200
TZOFFSETTO:+0100
TZNAME:CET
DTSTART:20221030T010000
END:STANDARD
END:VTIMEZONE
BEGIN:VEVENT
DTSTART;VALUE=DATE:20221217
DTEND;VALUE=DATE:20221218
DTSTAMP:20260424T000021
CREATED:20221201T165504Z
LAST-MODIFIED:20230114T195252Z
UID:1874-1671235200-1671321599@www.basale-stimulation.optimizarwordpress.net
SUMMARY:Curso iniciación a la Estimulación Basal: (4 horas) 17 de diciembre 2022 Universidad UIC (Universidad Internacional de Catalunya)
DESCRIPTION:Curso iniciación a la Estimulación Basal: (4 horas) 17 de diciembre 2022 \nUniversidad UIC (Universidad Internacional de Catalunya) \nTeléfono: 935042000 \nDocente: Elsa Bombín \nPrecio: \nEmail:  \n  \nCurso: CERRADO \nDirigido a:  Alumnos del master de Fisioterapia pediátrica de la UIC
URL:https://www.basale-stimulation.optimizarwordpress.net/event/curso-iniciacion-a-la-estimulacion-basal-4-horas-17-de-diciembre-2022-universidad-uic-universidad-internacional-de-catalunya/
CATEGORIES:cerrado,Taller
END:VEVENT
END:VCALENDAR