BEGIN:VCALENDAR
VERSION:2.0
PRODID:-//Asociación para el Desarrollo de Basale Stimulation® - ECPv6.3.6//NONSGML v1.0//EN
CALSCALE:GREGORIAN
METHOD:PUBLISH
X-ORIGINAL-URL:https://www.basale-stimulation.optimizarwordpress.net
X-WR-CALDESC:Eventos para Asociación para el Desarrollo de Basale Stimulation®
REFRESH-INTERVAL;VALUE=DURATION:PT1H
X-Robots-Tag:noindex
X-PUBLISHED-TTL:PT1H
BEGIN:VTIMEZONE
TZID:Europe/Madrid
BEGIN:DAYLIGHT
TZOFFSETFROM:+0100
TZOFFSETTO:+0200
TZNAME:CEST
DTSTART:20220327T010000
END:DAYLIGHT
BEGIN:STANDARD
TZOFFSETFROM:+0200
TZOFFSETTO:+0100
TZNAME:CET
DTSTART:20221030T010000
END:STANDARD
END:VTIMEZONE
BEGIN:VEVENT
DTSTART;VALUE=DATE:20221125
DTEND;VALUE=DATE:20221128
DTSTAMP:20260424T022526
CREATED:20220926T160716Z
LAST-MODIFIED:20220926T160716Z
UID:1836-1669334400-1669593599@www.basale-stimulation.optimizarwordpress.net
SUMMARY:Curso de profundización en Basale Stimulation nach Prof. Dr. Fröhlich®\, 25\, 26 y 27 de noviembre de 2022. UManresa - Fundació Universitària del Bages. CURSO ABIERTO
DESCRIPTION:Curso de profundización en Basale Stimulation nach Prof. Dr. Fröhlich® \nDías: 25\, 26 y 27 de noviembre de 2022 \nHorario: Viernes y sábado de 9 h a 18\,30 h; domingo de 8 h a 17 h \nUManresa – Fundació Universitària del Bages\n(Universitat de Vic – Universitat Central de Catalunya)\nAv. Universitària\, 4-6\n08242 Manresa (Barcelona) \nTeléfono: 93 8757348 (Salut) \nDocentes: \nBarbara Roller\nEnfermera y Terapeuta ocupacional. Ha trabajado durante más de 25 años en la institución Balmes\, escuela de educación especial trabajando con niños y jóvenes con necesidades de apoyo generalizado. Formadora oficial de Basale Stimulation® desde 1995. Supervisora y asesora en la práctica de la Basale Stimulation. \nElsa Bombín Casillas\nPedagoga y Psicomotricista. Formadora de Basale Stimulation desde 2014. Asesora y especialista en Estimulación Basal en Nexe Fundació\, CEE les Girafes Blaves \nMarta Not Monegal\nFisioterapeuta y Psicóloga especializada en Neurorrehabilitación\, Formadora oficial de Basale Stimulation® desde 2017. Profesora de la Facultad de Ciencias de la Salud de Manresa\, Universidad de Vic-Universitat Central de Catalunya (UVIC-UCC). Directora del centro “Servicio de Rehabilitación Neurológica del Bages. \nPrecio: 340 Euros \nCurso: Abierto \nDirigido a: Este curso va dirigido a profesionales del ámbito sociosanitario\, hospitalario y/o educativo que trabajen en la atención directa o en la planificación de la intervención y que hayan realizado un curso básico de Basale Stimulation® (este requisito es imprescindible para poder hacer esta formación). \nDescripción: Ver programa en la web. El curso se va a dar en catalán o castellano en función de  los participantes. \nPROGRAMA EN CASTELLANO: \nhttps://www.umanresa.cat/es/estudios/cursos/curso-basale-stimulation \nPROGRAMA EN CATALÁN \nhttps://www.umanresa.cat/ca/estudis/cursos/curs-basale-stimulation
URL:https://www.basale-stimulation.optimizarwordpress.net/event/curso-de-profundizacion-en-basale-stimulation-nach-prof-dr-frohlich-25-26-y-27-de-noviembre-de-2022-umanresa-fundacio-universitaria-del-bages-curso-abierto/
LOCATION:UManresa- Fundació Universitària del Bages\, av. universitaria 4-6\, Manresa\, Barcelona\, 08242\, España
CATEGORIES:Abierto,Profundización
ORGANIZER;CN="B%C3%A1rbara Roller":MAILTO:barbara.roller@basale-stimulation.optimizarwordpress.net
END:VEVENT
END:VCALENDAR